BEGIN:VCALENDAR
VERSION:2.0
PRODID:icalendar-ruby
CALSCALE:GREGORIAN
METHOD:PUBLISH
BEGIN:VEVENT
DTSTAMP:20260421T052651Z
UID:31-16446855@marinapacificafellowship.com
DTSTART:20260707T010000Z
DTEND:20260707T020000Z
CLASS:PUBLIC
CREATED:20260420T170504
DESCRIPTION:This is a Men's Stag meeting of Alcoholics Anonymous\nThis meet
 ing is in-person only at our fellowship hall. For direction\, please see t
 he map below.\nTo donate to this meeting\, please click on the green 7th T
 radition button. Our online payment system allows you to create your own l
 ogin and track your contributions\, change forms of payment\, make recurri
 ng donations and add your information to receive news and announcements ab
 out our organization.\n7th Tradition\n\n\n\nvar tw = create_tithely_widget
 ()\;\n\n\n
LAST-MODIFIED:20260420T170504
LOCATION:In-Person
SUMMARY:Monday 6PM - Men's Stag
URL;VALUE=URI:https://www.marinapacificafellowship.com/events/monday-6pm-me
 ns-stag/2026-07-06
ATTACH;FILENAME=PngItem_763029.png;FMTTYPE=image/png:https://dq5pwpg1q8ru0.
 cloudfront.net/2022/09/02/07/28/42/5fba3800-f111-4be6-be99-391c35d82d50/Pn
 gItem_763029.png
END:VEVENT
END:VCALENDAR
