BEGIN:VCALENDAR
VERSION:2.0
PRODID:icalendar-ruby
CALSCALE:GREGORIAN
METHOD:PUBLISH
BEGIN:VEVENT
DTSTAMP:20260424T131955Z
UID:48-16648525@marinapacificafellowship.com
DTSTART:20260903T173000Z
DTEND:20260903T183000Z
CLASS:PUBLIC
CREATED:20260424T042054
DESCRIPTION:This is an In-Person Meeting of Alcoholics Anonymous and meets 
 at our fellowship hall at the address below.\nTo donate to this meeting\, 
 please click on the green 7th Tradition button. Our online payment system 
 allows you to create your own login and track your contributions\, change 
 forms of payment\, make recurring donations and add your information to re
 ceive news and announcements about our organization.\n7th Tradition\n\n\n
LAST-MODIFIED:20260424T042054
LOCATION:In-Person
SUMMARY:Thursday 10:30AM - AA
URL;VALUE=URI:https://www.marinapacificafellowship.com/events/thursday-10-3
 0am-aa/2026-09-03
ATTACH;FILENAME=PngItem_763029.png;FMTTYPE=image/png:https://dq5pwpg1q8ru0.
 cloudfront.net/2025/06/07/19/13/00/902d2276-6ba4-46b6-bc15-228c7b209488/Pn
 gItem_763029.png
END:VEVENT
END:VCALENDAR
